BEGIN:VCALENDAR
VERSION:2.0
PRODID:spatie/icalendar-generator
DESCRIPTION:Events from Christian Community Church
X-WR-CALDESC:Events from Christian Community Church
REFRESH-INTERVAL;VALUE=DURATION:PT1440M
X-PUBLISHED-TTL:PT1440M
BEGIN:VTIMEZONE
TZID:America/Los_Angeles
BEGIN:DAYLIGHT
DTSTART:20260308T020000Z
TZOFFSETFROM:-0800
TZOFFSETTO:-0700
END:DAYLIGHT
BEGIN:STANDARD
DTSTART:20261101T020000Z
TZOFFSETFROM:-0700
TZOFFSETTO:-0800
END:STANDARD
END:VTIMEZONE
BEGIN:VTIMEZONE
TZID:UTC
BEGIN:STANDARD
DTSTART:20250725T023915Z
TZOFFSETFROM:+0000
TZOFFSETTO:+0000
END:STANDARD
END:VTIMEZONE
BEGIN:VEVENT
UID:551-13
DTSTAMP:20260421T023915Z
SUMMARY:Communion
LOCATION:
ORGANIZER;CN=admin:MAILTO:info@realcraftmarketing.com
RRULE:FREQ=MONTHLY;BYDAY=1SU;UNTIL=20300303T000000Z
DTSTART;TZID=America/Los_Angeles;VALUE=DATE:20260802
DTEND;TZID=America/Los_Angeles;VALUE=DATE:20260803
X-ALT-DESC;FMTTYPE=TEXT/HTML:
CATEGORIES:General
URL;VALUE=URI:https://www.cccmesquite.org/mc-events/communion/?mc_id=551
METHOD:PUBLISH
END:VEVENT
END:VCALENDAR